View In:
  ArcGIS JavaScript
  ArcGIS Online Map Viewer
  ArcGIS Earth
  ArcMap
View Footprint In:
  ArcGIS Online Map Viewer
Service Description:  Orthos_2010
Name:  Orthos_2010
Description:  
Single Fused Map Cache:  true
Tile Info: 
- Height: 256
 
- Width: 256
 
- DPI: 96
 
- 
Levels of Detail:  12
 
- Format: MIXED
 
- Compression Quality: 75.0
 
- LERC Error: NaN
 
- Origin: X:  1545200.0
Y:  925300.0
 
- Spatial Reference: 102719
 (2264)
 
Extent: 
XMin: 1540000.0027668625
YMin: 799999.9999292642
XMax: 1710000.0026611958
YMax: 930000.0000993476
Spatial Reference: 102719
 (2264)
Initial Extent: 
XMin: 1540000.0027668625
YMin: 799999.9999292642
XMax: 1710000.0026611958
YMax: 930000.0000993476
Spatial Reference: 102719
 (2264)
Full Extent: 
XMin: 1540000.0027668625
YMin: 799999.9999292642
XMax: 1710000.0026611958
YMax: 930000.0000993476
Spatial Reference: 102719
 (2264)
Pixel Size X:  0.4999999996892156
Pixel Size Y:  0.5000000006541668
Band Count: 3
Pixel Type: U8
RasterFunction Infos:  {"rasterFunctionInfos": [{
 "name": "None",
 "description": "",
 "help": ""
}]}
Mensuration Capabilities: Basic
Has Histograms:  true
Has Colormap:  false
Has Multi Dimensions :  false
Rendering Rule: 
Min Scale:  288895
Max Scale:  142
Copyright Text:  
Service Data Type:  esriImageServiceDataTypeRGB
Min Values:  0, 0, 0
Max Values:  255, 255, 255
Mean Values:  84.79081991560723, 89.88487032555555, 77.16893351392766
Standard Deviation Values:  44.805684765765044, 42.17809546121069, 35.78419786083384
Object ID Field:  
Fields: 
None
Default Mosaic Method:  Center
Allowed Mosaic Methods:  
SortField:  
SortValue:  null
Mosaic Operator:  First
Default Compression Quality:  75
Default Resampling Method:  Bilinear
Max Record Count:  null
Max Image Height:  4100
Max Image Width:  15000
Max Download Image Count:  null
Max Mosaic Image Count:  null
Allow Raster Function:  true
Allow Copy:  null
Allow Analysis:  null
Allow Compute TiePoints:  false
Supports Statistics:  false
Supports Advanced Queries:  false
Use StandardizedQueries:  true
Raster Type Infos: 
Name: Raster Dataset
Description: Supports all ArcGIS Raster Datasets
Help: 
Has Raster Attribute Table:  false
Edit Fields Info:  null
Ownership Based AccessControl For Rasters:  null
Child Resources:
  
Info
  Histograms
  Key Properties
  Legend
  Raster Function Infos
Supported Operations:
  
Export Image
  Identify
  Measure
  Compute Histograms
  Compute Statistics Histograms
  Get Samples
  Compute Class Statistics
  Query Boundary
  Compute Pixel Location
  Validate
  Project